BEGIN:VCALENDAR
VERSION:2.0
PRODID:-//Literatur- und Kunstkreis Uslar e. V.//NONSGML kigkonsult.se iCalcreator 2.41.92//
CALSCALE:GREGORIAN
METHOD:PUBLISH
UID:31666237-6630-4732-b961-373565613937
X-WR-CALNAME:iCagenda
X-WR-CALDESC:Event Management Extension for Joomla!
X-WR-RELCALID:3E26604A-50F4-4449-8B3E-E4F4932D05B5
X-WR-TIMEZONE:Europe/Berlin
BEGIN:VTIMEZONE
TZID:Europe/Berlin
TZUNTIL:20270328T010000Z
BEGIN:STANDARD
TZNAME:CET
DTSTART:20241027T030000
TZOFFSETFROM:+0200
TZOFFSETTO:+0100
RDATE:20251026T030000
RDATE:20261025T030000
END:STANDARD
BEGIN:DAYLIGHT
TZNAME:CEST
DTSTART:20250330T020000
TZOFFSETFROM:+0100
TZOFFSETTO:+0200
RDATE:20260329T020000
END:DAYLIGHT
END:VTIMEZONE
BEGIN:VEVENT
UID:37616538-3362-4638-b239-306265363864
DTSTAMP:20260422T103720Z
CATEGORIES:2025
CLASS:PUBLIC
DESCRIPTION;ALTREP="CID:<FFFF__=0ABBE548DFE235B58f9e8a93d@coffeebean.com>":
 Patatras ... das ist Musik von Hand gemacht\, von Bach über Mozart bis hin
  zu den Beatles\, von Deutschland über Irland nach Schweden. Patatras mach
 t vor nichts halt und bringt mit großer Kreativität und Spielfreude all da
 s auf die Bühne\, was die Instrumente so hergeben.\nSteffi Budde (Akkordeo
 n) und Barbara Kranz (Geige)
DTSTART:20250517T173000Z
DTEND:20250517T173000Z
GEO:+51.659588;+9.638539
LOCATION:Das kleine Café Rolle rückwärts
ORGANIZER:
SEQUENCE:1
SUMMARY:Patratas! - Musik von Hand gemacht
TRANSP:OPAQUE
URL:https://www.literatur-kunstkreis-uslar.de/index.php/206-patratas-steffi
 -budde-akkordeon-und-barbara-kranz-geige
END:VEVENT
END:VCALENDAR
