BEGIN:VCALENDAR
VERSION:2.0
PRODID:-//Literatur- und Kunstkreis Uslar e. V.//NONSGML kigkonsult.se iCalcreator 2.41.92//
CALSCALE:GREGORIAN
METHOD:PUBLISH
UID:30363938-6538-4466-a539-656361663339
X-WR-CALNAME:iCagenda
X-WR-CALDESC:Event Management Extension for Joomla!
X-WR-RELCALID:3E26604A-50F4-4449-8B3E-E4F4932D05B5
X-WR-TIMEZONE:Europe/Berlin
BEGIN:VTIMEZONE
TZID:Europe/Berlin
TZUNTIL:20280326T010000Z
BEGIN:STANDARD
TZNAME:CET
DTSTART:20251026T030000
TZOFFSETFROM:+0200
TZOFFSETTO:+0100
RDATE:20261025T030000
RDATE:20271031T030000
END:STANDARD
BEGIN:DAYLIGHT
TZNAME:CEST
DTSTART:20260329T020000
TZOFFSETFROM:+0100
TZOFFSETTO:+0200
RDATE:20270328T020000
END:DAYLIGHT
END:VTIMEZONE
BEGIN:VEVENT
UID:38363663-3633-4132-b634-396262333265
DTSTAMP:20260423T092708Z
CATEGORIES:2026
CLASS:PUBLIC
DESCRIPTION;ALTREP="CID:<FFFF__=0ABBE548DFE235B58f9e8a93d@coffeebean.com>":
 Robin Alexander zählt zu den Topjournalisten im politischen Berlin. Regelm
 äßig ist er mit seinem Wissen aus dem am besten informierten Hinterzimmer 
 zu Gast bei Lanz\, Miosga\, Illner und Maischberger. Auch als Autor hat er
  sich einen Namen gemacht und ist mehrfach an der Spitze der Bestseller-Li
 sten gelandet.\nIn seinem neuesten Buch „Letzte Chance“ erzählt Robin Alex
 ander die Geschichte hinter den Kulissen: von Merz' Tabubruch mit der AfD 
 und Geheimgesprächen mit Olaf Scholz bis hin zum Drama um das Billion-Schu
 ldenpaket. Robin Alexander liest aus seinem packend erzählten Buch\, welch
 es zeigt\, warum die politisch Handelnden in einer zersplitterten Parteien
 landschaft und einer aufgeheizten Öffentlichkeit immer weniger imstande si
 nd\, die großen Herausforderungen zu bewältigen.
DTSTART:20260608T173000Z
DTEND:20260608T193000Z
GEO:+51.667263;+9.631193
LOCATION:Forum Gymnasium Uslar
ORGANIZER:
SEQUENCE:1
SUMMARY:Robin Alexander: Letzte Chance
TRANSP:OPAQUE
URL:https://www.literatur-kunstkreis-uslar.de/index.php/221-robin-alexander
 -letzte-chance
END:VEVENT
END:VCALENDAR
