BEGIN:VCALENDAR
VERSION:2.0
PRODID:-//Literatur- und Kunstkreis Uslar e. V.//NONSGML kigkonsult.se iCalcreator 2.41.92//
CALSCALE:GREGORIAN
METHOD:PUBLISH
UID:65356163-3962-4834-b739-353064613161
X-WR-CALNAME:iCagenda
X-WR-CALDESC:Event Management Extension for Joomla!
X-WR-RELCALID:3E26604A-50F4-4449-8B3E-E4F4932D05B5
X-WR-TIMEZONE:Europe/Berlin
BEGIN:VTIMEZONE
TZID:Europe/Berlin
TZUNTIL:20280326T010000Z
BEGIN:STANDARD
TZNAME:CET
DTSTART:20251026T030000
TZOFFSETFROM:+0200
TZOFFSETTO:+0100
RDATE:20261025T030000
RDATE:20271031T030000
END:STANDARD
BEGIN:DAYLIGHT
TZNAME:CEST
DTSTART:20260329T020000
TZOFFSETFROM:+0100
TZOFFSETTO:+0200
RDATE:20270328T020000
END:DAYLIGHT
END:VTIMEZONE
BEGIN:VEVENT
UID:61666166-6134-4031-a666-633233373339
DTSTAMP:20260423T094328Z
CATEGORIES:2026
CLASS:PUBLIC
DESCRIPTION;ALTREP="CID:<FFFF__=0ABBE548DFE235B58f9e8a93d@coffeebean.com>":
 Ein Auto mit Charakter\, ein Ingenieur am Steuer und jede Menge Abenteuer 
 zwischen gefräßigen Wildschweinen\, zutraulichen Opossums und ballonseiden
 en Nachbarn: Bettina Tietjen ist wieder unterwegs – und nimmt uns mit auf 
 ihre schönsten und lustigsten Campingreisen!\nOb auf den endlosen Straßen 
 Australiens\, an der wilden Küste der Bretagne oder nachts im deutschen Fi
 nsterwald: Mit viel Humor\, Charme und einem Blick für das Besondere erzäh
 lt Bettina Tietjen von skurrilen Begegnungen\, kuriosen Erlebnissen und na
 chhaltigen Glücksmomenten. Dabei gibt sie nicht nur Einblicke in das Campe
 n mit Promis\, sondern verrät auch\, wie man auf Reisen einfach und lecker
  kochen kann. Ein Abend voller Lebensfreude und Inspiration.
DTSTART:20260923T173000Z
DTEND:20260923T193000Z
GEO:+51.667263;+9.631193
LOCATION:Forum Gymnasium Uslar
ORGANIZER:
SEQUENCE:1
SUMMARY:Bettina Tietjen: Tietjen sucht das Weite
TRANSP:OPAQUE
URL:https://www.literatur-kunstkreis-uslar.de/index.php/223-bettina-tietjen
 -tietjen-sucht-das-weite
END:VEVENT
END:VCALENDAR
