BEGIN:VCALENDAR
VERSION:2.0
PRODID:-//Literatur- und Kunstkreis Uslar e. V.//NONSGML kigkonsult.se iCalcreator 2.41.92//
CALSCALE:GREGORIAN
METHOD:PUBLISH
UID:37633331-3634-4537-b936-323936646432
X-WR-CALNAME:iCagenda
X-WR-CALDESC:Event Management Extension for Joomla!
X-WR-RELCALID:3E26604A-50F4-4449-8B3E-E4F4932D05B5
X-WR-TIMEZONE:Europe/Berlin
BEGIN:VTIMEZONE
TZID:Europe/Berlin
TZUNTIL:20270328T010000Z
BEGIN:STANDARD
TZNAME:CET
DTSTART:20241027T030000
TZOFFSETFROM:+0200
TZOFFSETTO:+0100
RDATE:20251026T030000
RDATE:20261025T030000
END:STANDARD
BEGIN:DAYLIGHT
TZNAME:CEST
DTSTART:20250330T020000
TZOFFSETFROM:+0100
TZOFFSETTO:+0200
RDATE:20260329T020000
END:DAYLIGHT
END:VTIMEZONE
BEGIN:VEVENT
UID:30393966-6561-4961-b361-343633386363
DTSTAMP:20260423T124723Z
CATEGORIES:2025
CLASS:PUBLIC
DESCRIPTION;ALTREP="CID:<FFFF__=0ABBE548DFE235B58f9e8a93d@coffeebean.com>":
 Wer könnte den Klimawandel besser erklären und Wege aus der Krise aufzeige
 n als DiplomMetereologe\, Buchautor und Wettermoderator Sven Plöger? Dabei
  ist Plöger kein Missionar oder Ideologe mit erhobenem Zeigefinger\, sonde
 rn er versucht die komplexen naturwissenschaftlichen Vorgänge in eine für 
 jede und jeden verständliche Sprache zu übersetzen. Und trotz der Ernsthaf
 tigkeit des Themas verzichtet Sven Plöger in seinem Vortrag nicht auf eine
  Prise Humor.
DTSTART:20250923T173000Z
DTEND:20250923T173000Z
GEO:+51.667328;+9.631314
LOCATION:Forum Gymnasium Uslar
ORGANIZER:
SEQUENCE:1
SUMMARY:Sven Plöger
TRANSP:OPAQUE
URL:https://www.literatur-kunstkreis-uslar.de/index.php/programm/jahresprog
 ramm/203-sven-ploeger
END:VEVENT
END:VCALENDAR
