BEGIN:VCALENDAR
VERSION:2.0
PRODID:-//Literatur- und Kunstkreis Uslar e. V.//NONSGML kigkonsult.se iCalcreator 2.41.92//
CALSCALE:GREGORIAN
METHOD:PUBLISH
UID:32306430-3237-4137-b462-666132313636
X-WR-CALNAME:iCagenda
X-WR-CALDESC:Event Management Extension for Joomla!
X-WR-RELCALID:3E26604A-50F4-4449-8B3E-E4F4932D05B5
X-WR-TIMEZONE:Europe/Berlin
BEGIN:VTIMEZONE
TZID:Europe/Berlin
TZUNTIL:20280326T010000Z
BEGIN:STANDARD
TZNAME:CET
DTSTART:20251026T030000
TZOFFSETFROM:+0200
TZOFFSETTO:+0100
RDATE:20261025T030000
RDATE:20271031T030000
END:STANDARD
BEGIN:DAYLIGHT
TZNAME:CEST
DTSTART:20260329T020000
TZOFFSETFROM:+0100
TZOFFSETTO:+0200
RDATE:20270328T020000
END:DAYLIGHT
END:VTIMEZONE
BEGIN:VEVENT
UID:62663031-6130-4232-b931-623036386536
DTSTAMP:20260422T100718Z
CATEGORIES:2026
CLASS:PUBLIC
DESCRIPTION;ALTREP="CID:<FFFF__=0ABBE548DFE235B58f9e8a93d@coffeebean.com>":
 Die bekannte Politikaufklärerin und Bestsellerautorin Sally Lisa Starken b
 egibt sich auf eine investigative Reise durch Demokratien\, die ins Wanken
  geraten sind: in die USA\, wo die Wahrheit im Trump-Zeitalter zur Verhand
 lungssache wird\, nach Polen\, das zwischen Aufbruch und Rückschritt taume
 lt\, und nach Italien\, wo eine postfaschistische Regierung Normalität bea
 nsprucht.\nStarken spricht mit Menschen\, die bereits erleben\, was es hei
 ßt\, wenn demokratische Institutionen unter Druck stehen – und kommt zu ei
 ner beunruhigenden Erkenntnis: Autoritäre Strukturen festigen sich und beg
 innen Wirkung zu entfalten\, lange bevor Mehrheiten ihnen zur demokratisch
  legitimierten Macht verholfen haben. Sie wirken in Sprache\, Debatten und
  Strukturen – und verschieben Grenzen Stück für Stück.Auch bei uns. Währen
 d die AfD in Umfragen führt und die Demokratie auch hierzulande ins Rutsch
 en zu geraten droht\, stellt sich die entscheidende Frage: Inwieweit könne
 n wir jetzt noch gegensteuern?\nDieser Abend gibt Antworten und zieht Lehr
 en aus Entwicklungen anderer Länder\, die ähnliche Erfahrungen bereits hin
 ter sich haben. Denn: In welcher Welt wollen wir morgen aufwachen?\nIn Koo
 peration mit:\n&nbsp\;
DTSTART:20260908T173000Z
DTEND:20260908T193000Z
GEO:+51.658817;+9.634271
LOCATION:Altes Rathaus Uslar
ORGANIZER:
SEQUENCE:1
SUMMARY:Sally Lisa Starken: Wenn der rechte Rand regiert
TRANSP:OPAQUE
URL:https://www.literatur-kunstkreis-uslar.de/index.php/programm/jahresprog
 ramm/222-sally-lisa-starken-wenn-der-rechte-rand-regiert
END:VEVENT
END:VCALENDAR
