BEGIN:VCALENDAR
VERSION:2.0
PRODID:-//Literatur- und Kunstkreis Uslar e. V.//NONSGML kigkonsult.se iCalcreator 2.41.92//
CALSCALE:GREGORIAN
METHOD:PUBLISH
UID:63376631-6234-4164-a333-376161383035
X-WR-CALNAME:iCagenda
X-WR-CALDESC:Event Management Extension for Joomla!
X-WR-RELCALID:3E26604A-50F4-4449-8B3E-E4F4932D05B5
X-WR-TIMEZONE:Europe/Berlin
BEGIN:VTIMEZONE
TZID:Europe/Berlin
TZUNTIL:20281029T010000Z
BEGIN:STANDARD
TZNAME:CET
DTSTART:20261025T030000
TZOFFSETFROM:+0200
TZOFFSETTO:+0100
RDATE:20271031T030000
END:STANDARD
BEGIN:DAYLIGHT
TZNAME:CEST
DTSTART:20260329T020000
TZOFFSETFROM:+0100
TZOFFSETTO:+0200
RDATE:20270328T020000
RDATE:20280326T020000
END:DAYLIGHT
END:VTIMEZONE
BEGIN:VEVENT
UID:38323733-3261-4761-b131-323137383136
DTSTAMP:20260422T102858Z
CATEGORIES:2026
CLASS:PUBLIC
DESCRIPTION;ALTREP="CID:<FFFF__=0ABBE548DFE235B58f9e8a93d@coffeebean.com>":
 Für Zyniker\, Romantiker\, Komiker und alle dazwischen kommt hier der viel
 leicht witzigste Roman über das Scheitern: Max\, Ende 20 und Comedyautor\,
  sieht sich am Anfang einer steilen Karriere: Er ist der Moderator seiner 
 eigenen Show – zumindest dreimal. Dann erfährt er aus der Fernsehzeitschri
 ft\, dass sie wieder abgesetzt wurde. Der hübsche Typ aus dem Club\, die v
 ermeintlich neue größte Liebe seines Lebens\, will auch nichts mehr von ih
 m wissen. Und möchte Max nicht eigentlich sowieso seine Exfreundin zurück?
  Sein Weg auf die große Bühne und zur großen Liebe ist gepflastert mit Fet
 tnäpfchen\, peinlicher Stille nach dem Witz\, Liebeskummer und Enttäuschun
 gen – und der Frage\, ob es am Ende ein Happy End für Max geben kann oder 
 sein Leben doch für immer die unlustigste Show der Welt bleibt.\nFreuen Si
 e sich auf eine Lesung voller Witz und Tiefgang. Comedian und »heute-show«
 - Außenreporter Lutz van der Horst geht im Gespräch mit einem seiner beste
 n Freunde aus der Comedy und Fernseh-Branche – Thilo Gosejohann – den tief
 greifenden Fragen des Lebens auf den Grund und klärt nicht zuletzt: Wie vi
 el vom wahren Lutz van der Horst steckt eigentlich in diesem Buch?\nNach d
 er Veranstaltung besteht die Möglichkeit mit dem Autor ins Gespräch zu kom
 men\, Fragen zu stellen und sich ein handsigniertes Buchexemplar zu sicher
 n.
DTSTART:20261112T183000Z
DTEND:20261112T203000Z
GEO:+51.659344;+9.631781
LOCATION:Ev. Gemeindehaus Uslar
ORGANIZER:
SEQUENCE:1
SUMMARY:Lutz van der Horst: Konfetti-Blues
TRANSP:OPAQUE
URL:https://www.literatur-kunstkreis-uslar.de/index.php/programm/jahresprog
 ramm/224-lutz-van-der-horst-konfetti-blues
END:VEVENT
END:VCALENDAR
